BEGIN:VCALENDAR
VERSION:2.0
PRODID:-//local3144 - ECPv6.15.12.2//NONSGML v1.0//EN
CALSCALE:GREGORIAN
METHOD:PUBLISH
X-WR-CALNAME:local3144
X-ORIGINAL-URL:https://local3144.com
X-WR-CALDESC:Events for local3144
REFRESH-INTERVAL;VALUE=DURATION:PT1H
X-Robots-Tag:noindex
X-PUBLISHED-TTL:PT1H
BEGIN:VTIMEZONE
TZID:America/New_York
BEGIN:DAYLIGHT
TZOFFSETFROM:-0500
TZOFFSETTO:-0400
TZNAME:EDT
DTSTART:20240310T070000
END:DAYLIGHT
BEGIN:STANDARD
TZOFFSETFROM:-0400
TZOFFSETTO:-0500
TZNAME:EST
DTSTART:20241103T060000
END:STANDARD
BEGIN:DAYLIGHT
TZOFFSETFROM:-0500
TZOFFSETTO:-0400
TZNAME:EDT
DTSTART:20250309T070000
END:DAYLIGHT
BEGIN:STANDARD
TZOFFSETFROM:-0400
TZOFFSETTO:-0500
TZNAME:EST
DTSTART:20251102T060000
END:STANDARD
BEGIN:DAYLIGHT
TZOFFSETFROM:-0500
TZOFFSETTO:-0400
TZNAME:EDT
DTSTART:20260308T070000
END:DAYLIGHT
BEGIN:STANDARD
TZOFFSETFROM:-0400
TZOFFSETTO:-0500
TZNAME:EST
DTSTART:20261101T060000
END:STANDARD
END:VTIMEZONE
BEGIN:VEVENT
DTSTART;TZID=America/New_York:20251016T080000
DTEND;TZID=America/New_York:20251016T170000
DTSTAMP:20260419T082536
CREATED:20251017T013421Z
LAST-MODIFIED:20251017T014336Z
UID:10000325-1760601600-1760634000@local3144.com
SUMMARY:Local 3144 Elections Friday October 17th 2025
DESCRIPTION:Voting will take place on Friday\, 17 October 2025 from 8:00am to 5:00 pm\nNew Haven Fire Academy\n230 Ella Grasso Boulevard\, New Haven CT\nPlease come with I.D.\, you must be on the list to vote. \nPlease Note: You must be a due paying member of the Local to run for office\,\nparticipate in the general meeting and vote. We look forward to seeing you there. \n  \nAFSCME MANAGEMENT AND PROFESSIONAL UNION \nLocal 3144 \nNomination Results \nContested Offices \nPresident: \nGilda Herrera \nJeff Patton \nMalinda Figueroa \n  \nCorresponding Secretary \nLisa Mezzanotte \nCarla Maitland \nBecky Rubenstein \nCynthia Sanchez \n  \nDistrict 1 \nCarmen Mendez \nDavid Mancini \n  \nDistrict 3  \nMichelle Ziogas \nPhil Modeen \n  \nUncontested Offices \nVice President – Velisha Cloud \n  \nTreasurer – Robert Mignosa \n  \nRecording Secretary – Isaias Miranda \n  \nDistrict 2 – Kevin Umberti \n  \nDistrict 4 Charles Blango \n  \nDistrict 5 – Open \n  \nTrustee 1-year term– Damaris Velez \n  \nTrustee 2-year term – Bianca DeJesus
URL:https://local3144.com/event/local-3144-elections-friday-october-17th-2025/
ATTACH;FMTTYPE=image/png:https://local3144.com/wp-content/uploads/2023/10/local3144-loco-fpo.png
END:VEVENT
END:VCALENDAR